BEGIN:VCALENDAR
VERSION:2.0
PRODID:-//Ayuntamiento de Elche - ECPv4.2.2//NONSGML v1.0//EN
CALSCALE:GREGORIAN
METHOD:PUBLISH
X-WR-CALNAME:Ayuntamiento de Elche
X-ORIGINAL-URL:http://www.elche.es
X-WR-CALDESC:Events for Ayuntamiento de Elche
BEGIN:VEVENT
DTSTART;VALUE=DATE:20170630
DTEND;VALUE=DATE:20170806
DTSTAMP:20170714T042100
CREATED:20170531
LAST-MODIFIED:20170531
UID:24962-1498780800-1502063999@www.elche.es
SUMMARY:Todo torsos
DESCRIPTION:La presente exposición trata de establecer un diálogo abierto entre los materiales y las formas. Con un tema común\, la de los torsos femeninos\, y algunos materiales como la madera\, el mármol o los metales lacados\, intento estimular los sentimientos\, emociones\, y de alguna manera\, activar la imaginación del público. A lo largo de los años\, mi motivación ha ido encaminada hacia un conocimiento y dominio de la materia\, que luego he tratado de trasladar a la escultura. Esta exposición refleja algunos de los trabajos de estos últimos años.
URL:http://www.elche.es/evento/todo-torsos/
LOCATION:Calle Curtidors\, 23. \, Elche\, Alicante\, 03203\, España
CATEGORIES:Cultura,Exposiciones,L'Escorxador
ATTACH;FMTTYPE=image/jpeg:http://www.elche.es/wp-content/uploads/2017/05/escorxador.jpg
ORGANIZER;CN="Elx%20Cultura":MAILTO:cultura@elx.es
END:VEVENT
BEGIN:VEVENT
DTSTART;VALUE=DATE:20170630
DTEND;VALUE=DATE:20170723
DTSTAMP:20170714T042100
CREATED:20170628
LAST-MODIFIED:20170628
UID:28015-1498780800-1500854399@www.elche.es
SUMMARY:Fiestas de Matola en honor a la Virgen del Carmen
DESCRIPTION:22:00 h. Encendido del alumbrado de fiestas 2017.\n\n23:00 h. Pregón de Fiestas 2017 a cargo de la ASOCIACIÓN DE AMAS DE CASA LA PALMERA. A continuación acto de IMPOSICIÓN DE BANDAS a las Reinas y Damas Mayores e Infantiles\, así como Imposición de Banda y Fajín a los Festeros de Honor. Al terminar seguirá la fiesta hasta que el cuerpo aguante.\n\nSábado\, 1 de Julio\n\n18:30 h. XXXVII CROSS POPULAR MATOLA 2017.\n\nYa serán 37 ediciones de la conocida como “La carrera del Infierno”. Una prueba que cada vez va cogiendo más solera y cuenta cada año con mayor participación.\n\nDomingo\, 2 de Julio\n\n11:00 h. Santa misa en la Ermita del Carmen oficiada por el cura párroco de la partida.\n\n13:00 h. XVIII CONCURSO DE PAELLAS en el recinto festero.\n\nOrganiza: Comisión de Fiestas de Matola\n\nColabora: Electrodomésticos La Nave\n\nSe proveerá de todo tipo de condimentos (leña\, conejos\, pimientos\, azafrán\, arroz\,…)\, a excepción de hierros y paellas.\nRogamos confirmen asistencia al teléfono 699 201 283 (preguntar por Toñi) o al teléfono 609 471 629 (preguntar por Dalia). Si por algún motivo variara el número de participantes de alguna de las paellas\, rogamos nos lo comuniquen lo antes posible para una mejor organización.\nDebido a que la Comisión de Fiestas abastece de todo condimento para las paellas\, se ruega no traer bebidas propias al recinto. HABRÁ SERVICIO DE BARRA.\nFECHA LÍMITE DE INSCRIPCIÓN: Viernes 30 de Junio.\n\nViernes\, 7 de Julio\n\n21:00 h. SOPAR DEL CABASET\n\n(confirmar mesa a Toñi al teléf. 699 201 283 o Dalia al teléf. 609 471 629).\n\nNoche amenizada por el TRIO JEMA con música hasta que el cuerpo aguante.\n\nSábado\, 8 de Julio\n\n19:00 h. GRAN CHARANGA HUMORÍSTICA\, con salida del Restaurante Matola y Bar Monumental\, desfilando hasta el Centro Social de Matola.\n\nLa Comisión de Fiestas quiere fomentar la diversión y convivencia en este acto. Además\, anima a los vecinos a participar y disfrazarse en esta jornada festera y les invita a adornar las fachadas del recorrido.\n\nPara participar en la Charanga es necesario informar a la Comisión de Fiestas. No se permitirá el consumo de bebidas alcohólicas a menores de edad. La Comisión de Fiestas aconseja un consumo responsable. Una vez en el Centro Social\, seguirá la velada con la ORQUESTA VENDETTA hasta que el cuerpo aguante. Habrá Castillo Hinchable gratuito para los más pequeños.\n\nDomingo\, 9 de Julio\n\n11:00 h. Santa misa en la Ermita del Carmen oficiada por el cura párroco de la partida.\n\n12:30 h. Juegos infantiles y juveniles en el recinto festero.\nViernes\, 14 de Julio\n\n21:30 h. Puesta en marcha de la Feria Infantil y Juvenil que permanecerá con acceso gratuito durante el fin de semana.\n\n23:00 h. Verbena en el recinto festero\, donde cantaremos y bailaremos recordando uno de los mejores grupos de los años 80. Tributo a MECANO con MELISSAE.\n\nSábado\, 15 de Julio\n\nAl amanecer volteo de campanas y disparo de cohetería.\n\n22:00 h. Puesta en marcha de la Feria Infantil y Juvenil.\n\n23:00 h. Música en vivo con la QUINTA NOTA.\n\n3:00 h. GRAN CHOCOLATADA organizada por la Comisión de Fiestas y con la colaboración de: CHOCOLATES CLAVILEÑO (Hnos. Lloret\, S.A.).\n\nA continuación seguirá el baile hasta que el cuerpo aguante.\n\nDomingo\, 16 de Julio\n\nFESTIVIDAD DE NUESTRA SEÑORA PATRONA LA VIRGEN DEL CARMEN\n\nAl amanecer volteo de campanas y disparo de cohetería.\n\n11:00 h. Misa de Campaña en la ermita del Carmen oficiada por el cura párroco de nuestra partida.\n\n19:30 h. Desfile musical y OFRENDA FLORAL a la Virgen\, con salida desde la Venta El Cruce\, acompañada por Reinas y Damas Mayores e Infantiles\, Festeros de Honor\, miembros de la Comisión y cuantas personas deseen participar.\n\n20:30 h. Solemne PROCESIÓN en honor a Nuestra Patrona la Virgen del Carmen.\n\nA la llegada de la Procesión se disparará un GRAN CASTILLO DE FUEGOS ARTIFICIALES.\n\n22:00 h. Nos trasladaremos al recinto festero para bailar con la música del DUO LOAN.\n\n00:00 h. Entrega de trofeos\, sorteo de premios de las papeletas y demás regalos.\n\n1:30 h. Se disparará una salva de cohetes que dará por finalizadas las Fiestas de Matola 2017.\n\nLunes\, 17 de Julio\n\n21:00 h. Misa por los difuntos de la partida\, oficiada por el cura párroco D. José Lozano.\n\nDomingo\, 23 de Julio\n\n11:00 h. Misa homenaje por los ancianos de la partida\, oficiada por el cura párroco D. José Lozano.
URL:http://www.elche.es/evento/fiestas-de-matola-en-honor-a-la-virgen-del-carmen/
LOCATION:Elche\, Alicante\, 03296\, España
CATEGORIES:Aire libre,Cultura
ATTACH;FMTTYPE=image/jpeg:http://www.elche.es/wp-content/uploads/2017/06/image_68813_jpeg_800x600_q85.jpg
END:VEVENT
BEGIN:VEVENT
DTSTART;VALUE=DATE:20170701
DTEND;VALUE=DATE:20170917
DTSTAMP:20170714T042100
CREATED:20170613
LAST-MODIFIED:20170626
UID:26750-1498867200-1505692799@www.elche.es
SUMMARY:Exposición "Inmaterial\, Patrimonio y memoria colec...
DESCRIPTION:El próximo 17 de mayo a las 17:30 tendrá lugar la inauguración de la exposición INMATERIAL. PATRIMONIO Y MEMORIA COLECTIVA en el Museo de Arqueología y de Historia de Elche (MAHE).\n\nACTIVIDADES COMPLEMENTARIAS\n\nCiclo de conferencias en La Casa de La Festa (c./ Major de la Vila\, 27). Aforo: 60 personas\n\nJueves 18 de mayo a las 18:00 h. "El Plan Nacional como instrumento de salvaguarda del patrimonio cultural inmaterial"\, a cargo de María Pía Timón Tiemblo\, directora del Plan Nacional de Patrimonio Inmaterial del Instituto del Patrimonio Cultural de España.\n\nJueves 25 de mayo a las 19:30 h. "Costumbres tradicionales del Camp d´Elx" a cargo de Fernando garcía Fontanet\, director del Centre de Cultura tradicional Museu Escolar de Pusol y José Aniorte Pérez\, gestor cultural del Centre de Cultura Tradicional  museu Escolar de Pusol.\n\nJueves 8 de junio a las 19:30 h. "La Festa de Pere Ibarra"\, a cargo de Joan Castaño\, doctor en Historia (Museu de La Festa).\n\nJueves 15 de junio a las 19:30 h. "El oficio del palmerero"\, a cargo de Miguel Ángel Sánchez martínez\, presidente de la Asociación de Palmereros.\n\nJueves 22 de junio a las 19:30 h. "El patrimonio inmaterial d´Elx"\, a cargo de Luis Pablo Martínez\, técnico de patrimonio de la Consellería de Educación\, Investigación\, Cultura y DEporte de la Generalitat Valenciana.\n\nTalleres didácticos. Sala Polivalente del MAHE. De 11:00 a 12:30 h. Recomendado a niños de 5 a 12 años. Reservar: 966 65 82 03\n\nDel 3 al 7 de julio:Dedicado al Misteri d´Elx.\n\nDel 10 al 14 de julio: Dedicado al Palmeral de Elche.\n\nDel 17 al 21 de julio: Dedicado a las fiestas de Moros y Cristianos.\n\nDel 24 al 28 de julio: Dedicado a las fiestas de Moros y Cristianos.\n\nOtras actividades\n\n- Misa cantada por la capella del Misteri en la Basílica de Santa María. Jueves 18 de mayo a las 20:00 h.\n\n- Concurso de trepa a la Palmera\, organizado por la Asociación de Palmereros de Elche. Martes 15 de agosto a las 19:00 h.\n\n- Demostración de trepa de la palmera en San Plácido. Todos los viernes de junio a septiembre a las 11:30 horas y los sábados 11 de junio\, 16 de julio\, 13 de agosto y 10 de septiembre.\n\n- Visita guiada al Centre de Cultura tradicional de Pusol. Viernes 26 de mayo\, 30 de junio\, 28 de julio y 25 de agosto. Para concertar visita\, enviar datos personales\, DNI y número de teléfono a info@museupusol.com
URL:http://www.elche.es/evento/exposicion-inmaterial-patrimonio-y-memoria-colec/
LOCATION:Calle Diagonal del Palau\, 7\, Elche\, Alicante\, 03202\, España
CATEGORIES:Cultura,Exposiciones,MAHE,Museos
ATTACH;FMTTYPE=image/jpeg:http://www.elche.es/wp-content/uploads/2017/06/image_68709_jpeg_800x600_q85.jpg
ORGANIZER;CN="Elx%20Cultura":MAILTO:cultura@elx.es
END:VEVENT
BEGIN:VEVENT
DTSTART;TZID=UTC+1:20170701T223000
DTEND;TZID=UTC+1:20170714T210000
DTSTAMP:20170714T042100
CREATED:20170612T063236
LAST-MODIFIED:20170710T111857
UID:26574-1498948200-1500066000@www.elche.es
SUMMARY:Elx Jazz Festival
DESCRIPTION:Sábado 1 de julio\, Ximo Tebar Quartet\n\nDomingo 2 de julio\, Dixielanders Jazz Band\n\nJueves 6 de julio\, Celia Mur & Arturo Serra\n\nViernes 7 de julio\, Jordi Vilá Quartet\n\nSábado 8 de julio\, Eva Fernández Group\n\nDomingo 9 de julio\, Ramón Cardo & The Nyora Boppers
URL:http://www.elche.es/evento/elx-jazz-festival/
LOCATION:Calle Diagonal del Palau\, 7\, Alicante\, 03202
CATEGORIES:Cultura,Música
ATTACH;FMTTYPE=image/jpeg:http://www.elche.es/wp-content/uploads/2017/06/image_68773_png_800x600_q85.jpg
ORGANIZER;CN="Elx%20Cultura":MAILTO:cultura@elx.es
END:VEVENT
BEGIN:VEVENT
DTSTART;VALUE=DATE:20170703
DTEND;VALUE=DATE:20170729
DTSTAMP:20170714T042100
CREATED:20170531
LAST-MODIFIED:20170531
UID:24942-1499040000-1501372799@www.elche.es
SUMMARY:Taller de teatre robótico
DESCRIPTION:Del 3 al 15/07/2017. TALLER 1.\nDe lunes a viernes de 10.00 a 13.00 h\nEnsayo general viernes 14 de 17.00 a 20.00 h\nRepresentación de la obra sábado 15.\n\nDel 17 al 29/07/2017. TALLER 2.\nDe lunes a viernes de 10.00 a 13.00 h\nEnsayo general viernes 28 de 17.00 a 20.00 h\nRepresentación de la obra sábado 29.\n\nEl Taller de Teatro Robótico es un proyecto donde se enseña a los más jóvenes el camino de la fusión del arte y la tecnología para el desarrollo personal y profesional. En este taller los participantes aprenderán a programar un robot y a desarrollar una obra de teatro junto a él.
URL:http://www.elche.es/evento/taller-de-teatre-robotico/
LOCATION:Calle Curtidors\, 23. \, Elche\, Alicante\, 03203\, España
CATEGORIES:Cultura,Cursos,Educación,Juventud,L'Escorxador
ATTACH;FMTTYPE=image/jpeg:http://www.elche.es/wp-content/uploads/2017/05/13600214_10153890597424608_1293060393159794626_n.jpg
ORGANIZER;CN="Elx%20Cultura":MAILTO:cultura@elx.es
END:VEVENT
BEGIN:VEVENT
DTSTART;VALUE=DATE:20170703
DTEND;VALUE=DATE:20170721
DTSTAMP:20170714T042100
CREATED:20170531
LAST-MODIFIED:20170531
UID:24954-1499040000-1500681599@www.elche.es
SUMMARY:Campus d’estiu.dansa per a tots junior
DESCRIPTION:Del lunes 3 al viernes 21 de julio.\nDe 09.00 a 14.00 h\n\n \n\nNivel medio\n\nPracticar\, aprender\, pero sobre todo disfrutar y compartir a través de la danza: profesores\, bailarines en activo y coreógrafos de diferentes disciplinas de danza comparten con los participantes sus conocimientos y experiencias.\nDel lunes 10 al viernes 14 de julio.\nDe 09.00 a 15.00 h\n\n \n\nNivel avanzado\n\n“GoOD” es un proyecto de aprendices/becarios que supone un toque de optimismo a la situación que actualmente viven las nuevas generaciones de bailarines\, que tras su formación\, comprueban que por la escasa programación de danza en las salas\, existen pocas compañías con una estructura estable que les posibiliten adquirir la experiencia necesaria para desarrollar su trabajo de manera profesional. OtraDanza quiere formar y dar oportunidad a estudiantes para que obtengan experiencia en una compañía y que les sirva de empujón para su futuro.\nDel lunes 10 al viernes 14 de julio.\nDe 09.00 a 15.00 h\n\n 
URL:http://www.elche.es/evento/campus-destiu-dansa-per-a-tots-junior/
LOCATION:Calle Curtidors\, 23. \, Elche\, Alicante\, 03203\, España
CATEGORIES:Cultura,Cursos,Danza,Educación,Joventut,L'Escorxador
ATTACH;FMTTYPE=image/jpeg:http://www.elche.es/wp-content/uploads/2017/05/18813606_10212855989977210_5334077191056539282_n.jpg
ORGANIZER;CN="Elx%20Cultura":MAILTO:cultura@elx.es
END:VEVENT
BEGIN:VEVENT
DTSTART;TZID=UTC+1:20170703T170000
DTEND;TZID=UTC+1:20170714T210000
DTSTAMP:20170714T042100
CREATED:20170531T060542
LAST-MODIFIED:20170531T061427
UID:24938-1499101200-1500066000@www.elche.es
SUMMARY:Taller de creació teatral: la persistència de la memòria.
DESCRIPTION:Contenidos:\n\n1ª Parte.\n· Entrenamiento físico-sensitivo.\n· Exploración y aprendizaje de Las Acciones Fisicas y su relación con las imágenes que se proponen.\n· Desarrollo de juegos a partir de nuestros recuerdos retenidos\, rescatándolos al primer nivel de consciencia.\n\n2ª Parte.\n· Exploraremos nuestros recuerdos personales para dotarles de una vida escénica donde las acciones y la palabra\, en su caso serán los protagonistas principales.\n· Crearemos una propuesta colectiva a partir de una imagen de la Memoria histórica reciente\, propuesta por el Director del Taller.\n\nEl viernes 14 a las 19.00 h presentaremos\npúblicamente los resultados del Taller\nen el Espai Escènic.
URL:http://www.elche.es/evento/taller-de-creacio-teatral-la-persistencia-de-la-memoria/
LOCATION:Calle Curtidors\, 23. \, Elche\, Alicante\, 03203\, España
CATEGORIES:Cultura,Cursos,Educación,Juventud,Mayores
ATTACH;FMTTYPE=image/jpeg:http://www.elche.es/wp-content/uploads/2017/05/image001-3.jpg
ORGANIZER;CN="Elx%20Cultura":MAILTO:cultura@elx.es
END:VEVENT
BEGIN:VEVENT
DTSTART;TZID=UTC+1:20170704T183000
DTEND;TZID=UTC+1:20170729T210000
DTSTAMP:20170714T042100
CREATED:20170531T062822
LAST-MODIFIED:20170628T054130
UID:24947-1499193000-1501362000@www.elche.es
SUMMARY:Tallers de formació artística artprende
DESCRIPTION:Curso de formación juvenil\, dirigido a personas que no hayan tenido ninguna experiencia a nivel teatral\, o que hayan participado en algún taller previo. Objetivos: Conocer diferentes tipologías de teatro. Aprender a trasmitir lo que nos pasa por dentro\, y a ponernos en la piel del otro. Lograr que los alumnos puedan vincularse con las emociones y los sentimientos\, reconocerlos\, aceptarlos y así poder expresarlos de una manera teatral. Haremos improvisaciones libres o con consignas\, sketchs y representación de pequeños textos.Trabajaremos la expresión corporal\, ritmo escénico y el lenguaje no verbal.\n\n· Del 27 de junio al 27 de julio.\n· Martes y jueves de 18.30 a 21.00 h\n· Sala Imatge del CCCE L’Escorxador.\n\n \n\nSi has hecho teatro alguna vez\, y crees que has pasado el nivel inicial\, aquí tienes un curso donde podrás aprender cosas específicas sobre tu gran pasión: el teatro. Así\, te propongo un taller enfocado en cuatro bloques temáticos\, que a través de una metodología práctica\, podrás seguir aprendiendo y disfrutando. Los bloques temáticos son: Teatro con objetos y Teatro físico. Teatro textual y no textual. Teatro y nuevas tecnologías. Casi una instalación. Creación del personaje dramático. Del texto al escenario.\n\n· Del 29 de junio al 29 de julio.\n· Jueves de 15.00 a 17.00 h y sábados de 11.00 a 13.00 h\n· Sala Imatge del CCCE L’Escorxador.\n\n \n\nEntre los límites de la realidad y la ficción impartido por Alberto Gutiérrez: En el momento de plantear una película documental\, las premisas de las que se parte siempre superan la ficción. Indagar en esta fórmula a la hora de la realización este tipo de obras jugando con lo real y lo contado desde una base práctica será la principal línea de actuación a desarrollar en este taller. La idea. Partir de lo simple. Desarrollo del guion. El documental y su vida propia. Planificando. Desde la “realidad”. La realización. El estilo como clave en la obra. Re-escribiendo la historia. El montaje como tu mejor aliado.\n\n· Del 4 al 26 de julio.\n· Martes y miércoles de 19.00 a 21.00 h\n· Taller Digital del CCCE L’Escorxador.\n\n \n\nAbierto para músicos y estudiantes de todos los instrumentos. Está dirigido para todos los ejecutantes que quieran aprender a improvisar o mejorar sus habilidades. Es útil para músicos y estudiantes de cualquier instrumento y estilo ya que se tratarán de manera práctica temas como acordes\, escalas\, tempo\, etc…\n\n· Del 3 al 26 de julio.\n· Lunes y miércoles de 10.00 a 12.00 h\n· Salas Audio del CCCE L’Escorxador.\n\n \n\n \n\n \n\n 
URL:http://www.elche.es/evento/tallers-de-formacio-artistica-artprende/
LOCATION:Calle Curtidors\, 23. \, Elche\, Alicante\, 03203\, España
CATEGORIES:Cultura,Cursos,Educación,Juventud,L'Escorxador,Mayores
ATTACH;FMTTYPE=image/jpeg:http://www.elche.es/wp-content/uploads/2017/05/image001-3.jpg
ORGANIZER;CN="Elx%20Cultura":MAILTO:cultura@elx.es
END:VEVENT
BEGIN:VEVENT
DTSTART;TZID=UTC+1:20170707T103000
DTEND;TZID=UTC+1:20170721T133000
DTSTAMP:20170714T042100
CREATED:20170531T055122
LAST-MODIFIED:20170627T054904
UID:24937-1499423400-1500643800@www.elche.es
SUMMARY:Arte con mucho cuento (la ludoteca móvil + arte para todo)
DESCRIPTION:Cuando Marisela Romero cuenta un cuento hace volar nuestra imaginación para adentrarnos en el proceso creativo de la mano de Trinidad Pérez con esculturas\, pintura\, instalaciones\, grabado\, collage...\n\nDesde el cuento jugamos con la narración\, con los personajes y con la la historia en sí\, asimilando las posibilidades creativas del cuento\, tanto de forma oral como escrita. Cada sesión combina actividades artísticas\, con la narración y creación de historias. Y cada semana de taller empieza y acaba una aventura diferente. Los niños y las niñas tienen ocasión de experimentar individualmente y también en pequeños grupos.\n· Taller completo: 125€ / 4 semanas.\n· Por semanas: 35€ / semana.\n· Días sueltos: 10€ / día.
URL:http://www.elche.es/evento/arte-con-mucho-cuento-la-ludoteca-movil-arte-para-todo/
LOCATION:Calle Curtidors\, 23. \, Elche\, Alicante\, 03203\, España
CATEGORIES:Cultura,Cursos,Infantil,L'Escorxador
ATTACH;FMTTYPE=image/jpeg:http://www.elche.es/wp-content/uploads/2017/05/541338_377039435681621_226849354_n.jpg
ORGANIZER;CN="Elx%20Cultura":MAILTO:cultura@elx.es
END:VEVENT
BEGIN:VEVENT
DTSTART;TZID=UTC+1:20170707T200000
DTEND;TZID=UTC+1:20170815T200000
DTSTAMP:20170714T042100
CREATED:20170606T070920
LAST-MODIFIED:20170627T054619
UID:25774-1499457600-1502827200@www.elche.es
SUMMARY:Exposición de Pintura\, Escultura y Fotografía
DESCRIPTION:Proyecto expositivo Virgen de la Luz 2015-2017  "Para sonrisas dependientes"\n\nDel 9 de Junio al 15 de Agosto\n\nCatálogo de la exposición
URL:http://www.elche.es/evento/exposicion-de-pintura-escultura-y-fotografia/
LOCATION: Plaza de Abajo\, Elche\, Alicante\, España
CATEGORIES:Bienestar social
ATTACH;FMTTYPE=image/jpeg:http://www.elche.es/wp-content/uploads/2017/06/20170609_122830.jpg
ORGANIZER;CN="Elx%20Cultura":MAILTO:cultura@elx.es
END:VEVENT
BEGIN:VEVENT
DTSTART;TZID=UTC+1:20170712T080000
DTEND;TZID=UTC+1:20170716T170000
DTSTAMP:20170714T042100
CREATED:20170705T083620
LAST-MODIFIED:20170705T084704
UID:29191-1499846400-1500224400@www.elche.es
SUMMARY:María (Y los Demás)
DESCRIPTION:María (Y los Demás) /Año: 2016  Nacionalidad: España/ Duración: 96 min.\n\n17:30/20:00/22:30\n\n \n\nDesde que murió su madre cuando ella tenía 15 años\, María ha cuidado de su padre y de sus hermanos. Responsable y controladora\, siempre ha sido el pilar de la familia\, y se siente orgullosa de ello. Por eso\, cuando su padre se enamora repentinamente de su enfermera y anuncia su inminente compromiso\, María siente que su vida se desmorona. Con 35 años y sin novio a la vista\, deberá atreverse a cambiar su destino.\n\nPRECIOS FILMOTECA\n\nDel jueves a domingo – 3 €\n\nMiércoles – 1\,5 €\n\nTercera edad y Estudiantes – entrada gratuita los miércoles.\n\nVENTA DE ENTRADAS INSTANT TICKET\n\n902 444 300 e instanticket.es\n\n 
URL:http://www.elche.es/evento/maria-y-los-demas/
LOCATION:Carrer Juan Ramón Jiménez\, 18\, Elche\, Alicante\,  03295\, España
CATEGORIES:Cine,Cines Odeón,Cultura
ATTACH;FMTTYPE=image/jpeg:http://www.elche.es/wp-content/uploads/2017/07/María-y-los-demás.jpg
ORGANIZER;CN="Elx%20Cultura":MAILTO:cultura@elx.es
END:VEVENT
BEGIN:VEVENT
DTSTART;TZID=UTC+1:20170712T080000
DTEND;TZID=UTC+1:20170716T230000
DTSTAMP:20170714T042100
CREATED:20170707T072442
LAST-MODIFIED:20170707T073258
UID:29508-1499846400-1500246000@www.elche.es
SUMMARY:Torrellano Cup 2017
DESCRIPTION: \n\n 
URL:http://www.elche.es/evento/torrellano-cup-2017/
LOCATION:C/ Violeta\, s/n\, Torrellano - Elche\, Alicante\, España
CATEGORIES:Deportes
ATTACH;FMTTYPE=image/jpeg:http://www.elche.es/wp-content/uploads/2017/07/Cartel-2017-1.jpg
END:VEVENT
END:VCALENDAR